BEGIN:VCALENDAR
VERSION:2.0
BEGIN:VEVENT
URL:http://www.tastenote.se/natverk/events/viewevent/10-oslo-whiskyfestival-2014 
DTSTART:20141107T170000
DTEND:20141108T200000
SUMMARY:Oslo Whiskyfestival 2014
DESCRIPTION:<p>
	Se mer informasjon p&aring; Oslo Whiskyfestival 2014 <a href="http://www.whiskyfestival.no/OWF2014.html">sin hjemmeside</a>.</p>
LOCATION:Håndverkeren Kurs og Konferansesenter, Rosenkrantz' gate 7, Oslo, Norge
END:VEVENT
END:VCALENDAR