BEGIN:VCALENDAR
VERSION:2.0
BEGIN:VEVENT
URL:http://www.tastenote.se/natverk/events/viewevent/11-cinderellla-whisky-fair-2015 
DTSTART:20150115T180000
DTEND:20150117T180000
SUMMARY:Cinderellla Whisky Fair 2015
DESCRIPTION:<p>
	F&ouml;lj med p&aring; v&auml;rldens st&ouml;rsta flytande whiskym&auml;ssa p&aring; Viking Cinderella, ett m&aring;ste f&ouml;r dig som &auml;r whiskyintresserad. Vi erbjuder tre identiska avg&aring;ngar den 15, 16 och 17 januari d&auml;r drygt 550 unika sorters whisky fr&aring;n v&auml;rldsledande leverant&ouml;rer presenteras, samt exklusiva m&auml;rken av bland annat choklad, cigarrer och champagne</p>
<p>
	Prisex: 455:-/person (Viking Club medlem: 385:-/person)</p>
<p>
	Ring f&ouml;r att boka:08-452 40 00</p>
<p>
	Produktkod: M&Auml;SSA</p>
LOCATION:Stockholm
END:VEVENT
END:VCALENDAR