BEGIN:VCALENDAR
VERSION:2.0
BEGIN:VEVENT
URL:http://www.tastenote.se/natverk/events/viewevent/12-en-oel-whiskymaessa-i-goeteborg-2015 
DTSTART:20150424T120000
DTEND:20150425T230000
SUMMARY:En Öl & Whiskymässa i Göteborg 2015
DESCRIPTION:<p>
	En Öl & Whiskymässa 2015</p>
<p>
	Vissa saker är värda att vänta på. Den 24-25 april 2015, är väntan över. Då arrangeras En Öl & Whiskymässa återigen i Göteborg.</p>
<p>
	Under de två dagarna samlas ett stort antal utställare med mikrobryggerier, bryggerier, whiskydestillerier, whisky- och ölimportörer, bryggmästare, whiskyhuvudmän och en rad olika delikatessföretag, även övrig dryck som cider, rom och avéc. Mässan kommer även att ha utställare med delikatesser.</p>
<p>
	Intresset att ställa ut på mässan är mycket stort, att få vara med och medverka på Göteborgs riktiga öl- och whiskymässa är något som man inte vill missa, säger våra utställare!</p>
LOCATION:Svenska Mässan Göteborg
END:VEVENT
END:VCALENDAR