BEGIN:VCALENDAR
VERSION:2.0
BEGIN:VEVENT
URL:http://www.tastenote.se/natverk/events/viewevent/14-oerebro-oel-whisky-festival-2014 
DTSTART:20141121T150000
DTEND:20141122T220000
SUMMARY:Örebro Öl & Whisky Festival 2014
DESCRIPTION:<p>
	<span style="color: rgb(0, 0, 0); font-family: arial, helvetica, verdana; line-height: 18px;">&Ouml;rebros uppskattade &ouml;l- och whiskyfestival anordas 2014 f&ouml;r &aring;ttonde &aring;ret i rad p&aring; Conventum Arena. H&auml;r samlas drygt 7000 personer en g&aring;ng om &aring;ret - allt fr&aring;n riktigt n&ouml;rdiga dryckesfantaster till dem som &auml;r lite sm&aring;t&ouml;rstiga - f&ouml;r att l&auml;ra sig mer och prova de sp&auml;nnande produkter som utst&auml;llarna erbjuder. H&auml;r finns &auml;ven m&ouml;jlighet att delta i seminarier och specialprovningar samt f&aring; n&aring;got gott att &auml;ta. Tillsammans skapar vi en trivsam helg och en lyckad tillst&auml;llning f&ouml;r alla den 21-22 november! V&auml;lkommen!</span></p>
LOCATION:Conventum Arena Fabriksgatan 28, ÖREBRO
END:VEVENT
END:VCALENDAR