BEGIN:VCALENDAR
VERSION:2.0
BEGIN:VEVENT
URL:http://www.tastenote.se/natverk/events/viewevent/15-borlaenge-oel-whiskymaessa-2014 
DTSTART:20141114T170000
DTEND:20141115T230000
SUMMARY:Borlänge Öl & Whiskymässa 2014
DESCRIPTION:<p style="-webkit-font-smoothing: antialiased; margin: 0px; padding: 0px; font-size: 1px; color: rgb(0, 0, 0); font-family: 'Times New Roman'; text-align: center; white-space: pre-wrap;">
	<span style="-webkit-font-smoothing: antialiased; font-family: Georgia, Georgia, serif; font-size: 16px; font-weight: bold; text-shadow: none;">V&Auml;LKOMNA TILL GALAXEN I BORL&Auml;NGE 14-15 NOVEMBER 2014</span></p>
<p style="-webkit-font-smoothing: antialiased; margin: 0px; padding: 0px; font-size: 1px; color: rgb(0, 0, 0); font-family: 'Times New Roman'; text-align: center; white-space: pre-wrap;">
	<span style="-webkit-font-smoothing: antialiased; font-family: Georgia, Georgia, serif; font-size: 16px; text-shadow: none;">F&ouml;r f&ouml;rsta g&aring;ngen bjuder Galaxen in till en &Ouml;l- & Whiskym&auml;ssa i Borl&auml;nge!</span></p>
<p style="-webkit-font-smoothing: antialiased; margin: 0px; padding: 0px; font-size: 1px; color: rgb(0, 0, 0); font-family: 'Times New Roman'; text-align: center; white-space: pre-wrap;">
	<span style="-webkit-font-smoothing: antialiased; font-family: Georgia, Georgia, serif; font-size: 16px; text-shadow: none;">I samarbete med Sveriges st&ouml;rsta ideella whiskyklubb,</span></p>
<p style="-webkit-font-smoothing: antialiased; margin: 0px; padding: 0px; font-size: 1px; color: rgb(0, 0, 0); font-family: 'Times New Roman'; text-align: center; white-space: pre-wrap;">
	<span style="-webkit-font-smoothing: antialiased; font-family: Georgia, Georgia, serif; font-size: 16px; text-shadow: none;">SMAD (Single Malt Academy of Dalecarlia).</span><br />
	&nbsp;</p>
<h3 style="-webkit-font-smoothing: antialiased; margin: 0px; padding: 0px; font-size: 16px; font-weight: normal; color: rgb(0, 0, 0); font-family: 'Times New Roman'; line-height: 19.2000007629395px; white-space: pre-wrap;">
	<span class="textheading3" style="-webkit-font-smoothing: antialiased; font-family: 'Palatino Linotype', 'Book Antiqua', Palatino, serif; font-weight: bold; text-shadow: none; color: rgb(158, 0, 5);">Entr&eacute;pris:</span></h3>
<p style="-webkit-font-smoothing: antialiased; margin: 0px; padding: 0px; font-size: 1px; color: rgb(0, 0, 0); font-family: 'Times New Roman'; white-space: pre-wrap;">
	<span class="mobile-undersized-upper" style="-webkit-font-smoothing: antialiased; font-family: Helvetica, sans-serif; font-size: 12px; text-shadow: none;">Fredag: 230 kr + serviceavgift</span></p>
<p style="-webkit-font-smoothing: antialiased; margin: 0px; padding: 0px; font-size: 1px; color: rgb(0, 0, 0); font-family: 'Times New Roman'; white-space: pre-wrap;">
	<span class="mobile-undersized-upper" style="-webkit-font-smoothing: antialiased; font-family: Helvetica, sans-serif; font-size: 12px; text-shadow: none;">L&ouml;rdag: 230 kr + serviceavgift</span></p>
<p style="-webkit-font-smoothing: antialiased; margin: 0px; padding: 0px; font-size: 1px; color: rgb(0, 0, 0); font-family: 'Times New Roman'; white-space: pre-wrap;">
	<span class="mobile-undersized-upper" style="-webkit-font-smoothing: antialiased; font-family: Helvetica, sans-serif; font-size: 12px; text-shadow: none;">Tv&aring;dagars: 400 kr + serviceavgift</span></p>
<p style="-webkit-font-smoothing: antialiased; margin: 0px; padding: 0px; font-size: 1px; color: rgb(0, 0, 0); font-family: 'Times New Roman'; white-space: pre-wrap;">
	<span class="mobile-undersized-upper" style="-webkit-font-smoothing: antialiased; font-family: Helvetica, sans-serif; font-size: 12px; text-shadow: none;">inkl. dryckesprovarglas och garderob</span></p>
<p style="-webkit-font-smoothing: antialiased; margin: 0px; padding: 0px; font-size: 1px; color: rgb(0, 0, 0); font-family: 'Times New Roman'; white-space: pre-wrap;">
	<span class="mobile-undersized-upper" style="-webkit-font-smoothing: antialiased; font-family: Helvetica, sans-serif; font-size: 12px; text-shadow: none;">&nbsp;</span></p>
<h3 style="-webkit-font-smoothing: antialiased; margin: 0px; padding: 0px; font-size: 16px; font-weight: normal; color: rgb(0, 0, 0); font-family: 'Times New Roman'; line-height: 19.2000007629395px; white-space: pre-wrap;">
	<span class="textheading3" style="-webkit-font-smoothing: antialiased; font-family: 'Palatino Linotype', 'Book Antiqua', Palatino, serif; font-weight: bold; text-shadow: none; color: rgb(158, 0, 5);">Dryckeskuponger:</span></h3>
<p style="-webkit-font-smoothing: antialiased; margin: 0px; padding: 0px; font-size: 1px; color: rgb(0, 0, 0); font-family: 'Times New Roman'; text-align: center; white-space: pre-wrap;">
	&nbsp;</p>
<p style="-webkit-font-smoothing: antialiased; margin: 0px; padding: 0px; font-size: 1px; color: rgb(0, 0, 0); font-family: 'Times New Roman'; white-space: pre-wrap;">
	<span class="mobile-undersized-upper" style="-webkit-font-smoothing: antialiased; font-family: Helvetica, sans-serif; font-size: 12px; text-shadow: none;">Ett dryckesh&auml;fte kostar 100, 200 eller 300 kr med val&ouml;rerna 10, 20, 40 och 60 kr.</span></p>
LOCATION:Galaxen Jussi Björlings väg 25 784 32 Borlänge
END:VEVENT
END:VCALENDAR