BEGIN:VCALENDAR
VERSION:2.0
BEGIN:VEVENT
URL:http://www.tastenote.se/natverk/events/viewevent/16-feis-ile-2015 
DTSTART:20150522T000000
DTEND:20150530T235959
SUMMARY:Feis Ile 2015
DESCRIPTION:<p style="padding: 0px; margin: 0.7em 0px; line-height: 1.8em; color: rgb(100, 99, 99); font-family: 'Open Sans', sans-serif; font-size: medium;">
	he 2015 Islay Festival will run from Friday 22nd May &ndash; Sat 30 May 2015.</p>
<p style="padding: 0px; margin: 0.7em 0px; line-height: 1.8em; color: rgb(100, 99, 99); font-family: 'Open Sans', sans-serif; font-size: medium;">
	A hundred thousand welcomes to our lovely island &ndash; Ceud Mìle Fàilte</p>
LOCATION: Frederick Crescent   Port Ellen   Isle of Islay   PA42 7BD Argyll   Scotland
END:VEVENT
END:VCALENDAR