BEGIN:VCALENDAR
VERSION:2.0
BEGIN:VEVENT
URL:http://www.tastenote.se/natverk/events/viewevent/17-malmoe-oel-whisky-festival-2015 
DTSTART:20150313T150000
DTEND:20150314T210000
SUMMARY:Malmö Öl & Whisky Festival 2015
DESCRIPTION:<p style="margin: 0px 0px 1.5em; padding: 0px; border: 0px; font-family: arial, helvetica, sans-serif; font-size: 14px; line-height: 21px; vertical-align: baseline; color: rgb(51, 51, 51);">
	I Malm&ouml; M&auml;ssans moderna lokaler presenterar vi Malm&ouml; &Ouml;l & Whisky Festival, en festival som v&auml;nder sig till livsnjutare. Det blir m&aring;nga utst&auml;llare, sp&auml;nnande provningar, intressanta f&ouml;rel&auml;sningar, cigarrlounge och en h&auml;rlig st&auml;mning.&nbsp;<br />
	V&aring;rt m&aring;l 2015 &auml;r f&aring; s&aring; m&aring;nga av dom sm&aring; bryggerierna p&aring; plats som m&ouml;jligt. Vi siktar p&aring; totalt 100 utst&auml;llare. Vi kommer &auml;ven att jobba h&aring;rt med milj&ouml;n, och skapa mer st&auml;mning med hj&auml;lp av mattor, annat ljus, och lite mindre ytor.<br />
	<br />
	Som vanligt satsar vi ocks&aring;&nbsp;p&aring; v&aring;rt matutbud. Vi kommer att erbjuda allt ifr&aring;n enkel sk&aring;nsk streetfood och skaldjur till en komplett meny signerad Daniel Pembert.&nbsp;Med kvalit&eacute; och gl&auml;dje skapar vi en festival som livsnjutare varken vill eller kan missa</p>
<p style="margin: 0px 0px 1.5em; padding: 0px; border: 0px; font-family: arial, helvetica, sans-serif; font-size: 14px; line-height: 21px; vertical-align: baseline; color: rgb(51, 51, 51);">
	Missa inte &aring;rets &ouml;l- och whiskyh&auml;ndelse i S&ouml;dra Sverige! V&auml;l m&ouml;tt!</p>
LOCATION:Malmömässan, Mässgatan 6, 215 32 Malmö
END:VEVENT
END:VCALENDAR