BEGIN:VCALENDAR
VERSION:2.0
BEGIN:VEVENT
URL:http://www.tastenote.se/natverk/events/viewevent/18-tastenote-whiskyprovning-mini-maessa 
DTSTART:20141128T183000
DTEND:20141128T220000
SUMMARY:TasteNote Whiskyprovning/Mini Mässa
DESCRIPTION:<h4 align="center">
	<strong>INBJUDAN&nbsp;TILL &Aring;RETS SISTA WHISKYPROVNING OCH&nbsp;MINIM&Auml;SSA!</strong></h4>
<p align="center">
	<strong>&Aring;rets sista provning till&auml;gnas v&aring;r egen hemsida. Alla&nbsp;int&auml;kter&nbsp;g&aring;r&nbsp;till att uppdatera&nbsp;v&aring;r hemsida.&nbsp;</strong><br />
	<br />
	Efter provningen kommer vi att st&auml;lla till med&nbsp;en liten&nbsp;minim&auml;ssa. Vi dukar upp massor av god whisky fr&aring;n v&aring;ra egna hyllor och ni f&aring;r chansen att smaka saker som ni s&auml;kert inte gjort tidigare. Alla samples&nbsp;om&nbsp;c:a 2 cl kostar mellan 20-100 kr.&nbsp;Sitt g&auml;rna&nbsp;kvar, spendera lite pengar f&ouml;r den goda saken&nbsp;och h&auml;ng med oss en stund eller k&ouml;p med i provflaska hem. Om allt g&aring;r som planerat kan vi ta betalt med swish, kontant eller kort.<br />
	<br />
	Kv&auml;llen inleds med sedvanlig provning d&auml;r vi kommer att plocka fram det d&auml;r lilla extra. Provningen tar c:a 1,5 timme varefter vi k&ouml;r ig&aring;ng med minim&auml;ssa.<br />
	Kv&auml;llen avslutas c:a&nbsp;22.00&nbsp;<br />
	&nbsp;</p>
<div align="center">
	<hr align="center" size="2" width="100%" />
</div>
<p align="center">
	<strong>N&Auml;R:</strong>&nbsp;Fredagen&nbsp;den 28:e november&nbsp;2014, Kl. 18.30&nbsp;- 22.00<br />
	<strong>VAR:</strong>&nbsp;Varberg, Tr&auml;dlyckev&auml;gen 92, en trappa ner.<br />
	<strong>KOSTNAD:</strong>&nbsp;<strong>350</strong>&nbsp;kr/ person.<br />
	<strong>ANM&Auml;L:</strong>&nbsp;Dig och dina v&auml;nner till provningen enklast genom att&nbsp;svara p&aring; detta mail.&nbsp;</p>
<p align="center">
	N&auml;r vi bekr&auml;ftat din anm&auml;lan s&auml;tter du in 350:-/person.<br />
	&nbsp;</p>
<p align="center">
	<strong>SWISHA&nbsp;TILL:</strong>&nbsp;0707-280134 (Patrik Barkevall)</p>
<p align="center">
	<strong>ELLER S&Auml;TT IN P&Aring; BANKKONTO:</strong><br />
	<strong><strong><a href="http://CLEARING.NR" target="_blank">CLEARING.NR</a>: </strong></strong>6681 (Handelsbanken)</p>
<p align="center">
	<strong>KONTO.NR:</strong>684 065 568</p>
<p align="center">
	&nbsp;</p>
<p align="center">
	<strong>M&Auml;RK</strong>ins&auml;ttningen med ditt namn.&nbsp;Betalar du in f&ouml;r flera personer m&auml;rk med ditt namn och&nbsp;antal.</p>
<p align="center">
	<br />
	<strong>OBS: </strong>Deltagandet &auml;r satt till max 20&nbsp;personer</p>
<p>
	<strong>Varmt v&auml;lkomna den 28&nbsp;November</strong><br />
	<br />
	<strong><strong>Roland,&nbsp;Patrik & Bennie</strong></strong></p>
LOCATION:Trädlyckevägen 92, Varberg
END:VEVENT
END:VCALENDAR