BEGIN:VCALENDAR
VERSION:2.0
BEGIN:VEVENT
URL:http://www.tastenote.se/natverk/events/viewevent/19-bergen-international-whisky-beer-festival-2015 
DTSTART:20150212T160000
DTEND:20150214T210000
SUMMARY:Bergen International Whisky & Beer Festival 2015
DESCRIPTION:<p>
	Festivalen arrangeres av The Tasting Room som drives av Frode Harring. Frode har god erfaring med &aring; arrangere whiskyfestival fra da han var ansvarlig for Whisky-Meet som ble avholdt p&aring; Grand Terminus Hotel i Bergen.</p>
<p>
	Facebook-sider:<br />
	https://www.facebook.com/events/831992370164664/<br />
	https://www.facebook.com/pages/Bergen-International-Whisky-Beer-Festival/1487642158157435?hc_location=timeline</p>
LOCATION:Scandic Bergen City, Hakonsgaten 2, 5015 Bergen, Hordaland
END:VEVENT
END:VCALENDAR