BEGIN:VCALENDAR
VERSION:2.0
BEGIN:VEVENT
URL:http://www.tastenote.se/natverk/events/viewevent/21-falkenberg-oel-whiskymaessa-2015 
DTSTART:20150821T150000
DTEND:20150822T220000
SUMMARY:Falkenberg Öl & Whiskymässa 2015
DESCRIPTION:Vi tackar utställare och besökare för en trevlig genomförd mässa.
2014 års Falkenberg Öl & Whiskymässa besöktes av strax över 2400 besökare som hade 46 utställare att besöka under de båda dagarna den 22:a och 23:e augusti.
Med så mycket beröm och glädje från både utställare och besökare så planerar vi redan nu för att göra en lika trevlig mässa 2015.
Vi tittar på samma helg och i så fall blir det den 21:a och 22:a augusti.

Slainte!
LOCATION:Falkhallen, Falkenberg
END:VEVENT
END:VCALENDAR