BEGIN:VCALENDAR
VERSION:2.0
BEGIN:VEVENT
URL:http://www.tastenote.se/natverk/events/viewevent/22-trondheim-whiskyfestival-2015 
DTSTART:20150314T140000
DTEND:20150314T210000
SUMMARY:Trondheim Whiskyfestival 2015
DESCRIPTION:<p>
	Hjemmesiden til festivalen:</p>
<p>
	http://www.whiskyfestival.no/TWF2015.html</p>
LOCATION:Scandic Solsiden, Beddingen 1, 7014 Trondheim
END:VEVENT
END:VCALENDAR