BEGIN:VCALENDAR
VERSION:2.0
BEGIN:VEVENT
URL:http://www.tastenote.se/natverk/events/viewevent/23-stockholm-beer-whisky-festival 
DTSTART:20150925T140000
DTEND:20150927T234500
SUMMARY:Stockholm Beer & Whisky Festival
DESCRIPTION:Öppettider Allmänhet:

Första helgen:
Torsdagen den 25/9: 14-23
Fredagen den 26/9: 14-24
Lördagen den 27/9: 11-24

Andra helgen:
Torsdagen den 2/10: 14-23
Fredagen den 3/10: 14-24
Lördagen den 4/10: 11-24
Öppetider Fackfolk:
Torsdagen den 25/9: 12-23
Torsdagen den 2/10: 12-23
Plats: Nackastrandsmässan, Nacka Strand, Stockholm
Besöksadress: Augustendalstorget 6 131 52 Nacka Strand
LOCATION:Nackastrandsmässan, Nacka Strand, Stockholm Besöksadress: Augustendalstorget 6 131 52 Nacka Strand
END:VEVENT
END:VCALENDAR