BEGIN:VCALENDAR
VERSION:2.0
BEGIN:VEVENT
URL:http://www.tastenote.se/natverk/events/viewevent/25-tunsberg-whiskyfestival-2015 
DTSTART:20150926T130000
DTEND:20150926T200000
SUMMARY:Tunsberg Whiskyfestival 2015
DESCRIPTION:<p>
	   Lenke til masterclassene (per i dag, 8. mars 2015, virker det som om sidene er under utarbeidelse):
</p>
<p>
	http://www.tunsbergwhiskyfestival.no/MesterKlasser.aspx
</p>
LOCATION:Quality Hotel Klubben, Nedre Langgate 49, Tønsberg
END:VEVENT
END:VCALENDAR