BEGIN:VCALENDAR
VERSION:2.0
BEGIN:VEVENT
URL:http://www.tastenote.se/natverk/events/viewevent/27-cinderella-whisky-fair-2016 
DTSTART:20160114T180000
DTEND:20160117T140000
SUMMARY:Cinderella Whisky Fair 2016
DESCRIPTION:<h1>Whiskymässa 2016</h1>
<p>
	<span style="line-height: 1.45em; color: inherit; font-style: inherit; font-variant: inherit; font-weight: inherit; background-color: initial;">Följ med på världens största flytande whiskymässa på Viking Cinderella, ett måste för dig som är whiskyintresserad. Vi erbjuder tre identiska avgångar den 14, 15 och 16 januari där drygt 550 unika sorters whisky från världsledande leverantörer presenteras, samt exklusiva märken av bland annat choklad, cigarrer och champagne.</span><br />
</p>
<h2>Mycket att välja på</h2>
<p>
	Välj bland lätta, lena, rökiga, mustiga, nyare eller lagrad whisky. Här finns exklusiva utgåvor och rariteter du inte hittar på Systembolaget. Är du entusiast måste du delta i masterclass med tastings (förbokas).<br />
</p>
<p>
	<span style="line-height: 1.45em; color: inherit; font-style: inherit; font-variant: inherit; font-weight: inherit; background-color: initial;">Prova dina favoriter. Köp hem kvalitetswhisky till taxfreepris, både samples hos utställarna och i Cinderellas butik. Det blir även auktion då du kan buda på whisky m m. Vårt bästa råd: boka resa snarast!</span>
</p>
LOCATION:Stockholm
END:VEVENT
END:VCALENDAR