BEGIN:VCALENDAR
VERSION:2.0
BEGIN:VEVENT
URL:http://www.tastenote.se/natverk/events/viewevent/28-bergen-international-whisky-beer-festival-2016 
DTSTART:20160211T170000
DTEND:20160213T210000
SUMMARY:Bergen International Whisky & Beer Festival 2016
DESCRIPTION:<p>
	Se informasjon om billetter <a href="https://billetto.no/events/88995" target="_blank">her</a>.
</p>
<p>
	Kick off på torsdag, men selve festivalen er fredag og lørdag.
</p>
<p>
	PS. Jeg skal jobbe der :-)
</p>
LOCATION:Scandic Bergen City, Håkonsgaten 2, 5015 Bergen
END:VEVENT
END:VCALENDAR