BEGIN:VCALENDAR
VERSION:2.0
BEGIN:VEVENT
URL:http://www.tastenote.se/natverk/events/viewevent/33-skoevde-oel-och-whisky 
DTSTART:20160304T160000
DTEND:20160305T230000
SUMMARY:Skövde öl och whisky
DESCRIPTION:<p>
	<span style="line-height: 1.45em; color: inherit; font-style: inherit; font-variant: inherit; font-weight: inherit; background-color: initial;">Mässan kommer att gå av stapeln den 4-5 mars 2016. I skövdes vackra kulturhus "Sveriges första kulturhus". Bland utställarna finns Sveriges största microbryggare, agenter och distillerier.<br />
	</span>
</p>
<p>
	http://www.skovdedryckesmassa.se/
</p>
LOCATION:Skövde, Skövde Kulturhus
END:VEVENT
END:VCALENDAR