BEGIN:VCALENDAR
VERSION:2.0
BEGIN:VEVENT
URL:http://www.tastenote.se/natverk/events/viewevent/34-malmoe-oel-whisky 
DTSTART:20160401T150000
DTEND:20160402T210000
SUMMARY:Malmö öl & Whisky
DESCRIPTION:<p>
	Målet med 2016 års mässa är att jobba ännu mer med miljön, och skapa ett större matutbud. Vi jobbar även vidare med att få så många av de små bryggerierna på plats som möjligt. Vi siktar på totalt 120 utställare. Vi kommer även att jobba hårt med miljön, och skapa mer stämning med hjälp av mattor, annat ljus, och lite mindre ytor.
</p>
<p>
	<span style="line-height: 1.45em; color: inherit; font-style: inherit; font-variant: inherit; font-weight: inherit; background-color: initial;">2016 satsar vi ännu på vårt matutbud. Vi vill helt enkelt att ni skall äta på plats, och att utbudet av mat skall matcha all underbara drycker. Vi kommer att erbjuda allt ifrån enkel korvbar till skaldjurbar eller även en komplett meny signerad Daniel Pembert. Med kvalité och glädje skapar vi en festival som livsnjutare varken vill eller kan missa.</span>
</p>
<p>
	<br />
	<a href="http://www.mowfestival.se">http://www.mowfestival.se</a>
</p>
LOCATION:Malmö, Malmömässan
END:VEVENT
END:VCALENDAR