BEGIN:VCALENDAR
VERSION:2.0
BEGIN:VEVENT
URL:http://www.tastenote.se/natverk/events/viewevent/5-malmoe-oel-och-whisky-festival 
DTSTART:20140328T150000
DTEND:20140329T220000
SUMMARY:Malmö Öl och whisky festival
DESCRIPTION:<p>
	<span style="color: rgb(51, 51, 51); font-family: arial, helvetica, sans-serif; font-size: 14px; line-height: 21px;">I Malm&ouml; M&auml;ssans moderna lokaler presenterar vi Malm&ouml; &Ouml;l & Whisky Festival, en festival som v&auml;nder sig till livsnjutare. Det blir m&aring;nga utst&auml;llare, sp&auml;nnande provningar, intressanta f&ouml;rel&auml;sningar, cigarrlounge och en h&auml;rlig st&auml;mning.&nbsp;</span><br style="color: rgb(51, 51, 51); font-family: arial, helvetica, sans-serif; font-size: 14px; line-height: 21px;" />
	<span style="color: rgb(51, 51, 51); font-family: arial, helvetica, sans-serif; font-size: 14px; line-height: 21px;">2014 satsar vi extra mycket p&aring; v&aring;rt matutbud. Vi kommer att erbjuda altt ifr&aring;n enkel sk&aring;nsk streetfood och skaldjur till en komplett meny signerad Daniel Pembert.&nbsp;Med kvalit&eacute; och gl&auml;dje skapar vi en festival som livsnjutare varken vill eller kan missa.</span></p>
LOCATION:Malmö mässan
END:VEVENT
END:VCALENDAR