BEGIN:VCALENDAR
VERSION:2.0
BEGIN:VEVENT
URL:http://www.tastenote.se/natverk/events/viewevent/6-ardbeg-auriverdes-slaepps 
DTSTART:20140531T000000
DTEND:20140531T235959
SUMMARY:Ardbeg Auriverdes (släpps)
DESCRIPTION:
LOCATION:Port Ellen, Isle of Islay 
END:VEVENT
END:VCALENDAR