BEGIN:VCALENDAR
VERSION:2.0
BEGIN:VEVENT
URL:http://www.tastenote.se/natverk/events/viewevent/7-whiskyprovning 
DTSTART:20140510T180000
DTEND:20140510T210000
SUMMARY:Whiskyprovning!
DESCRIPTION:<p>
	<font color="#696969" style="font-size: 14px; text-align: center;">Vi provar whisky som &auml;r ett tydligt uttryck f&ouml;r vad Islay speciella torvr&ouml;ks doftande whisky&nbsp;handlar om. Vi har letat upp exklusiva limiterade&nbsp;utg&aring;vor som vi kommer att prova tillsamman med er under kv&auml;llen. Provningen kostar 350 kr/ person. Fr&ouml; anm&auml;lan maila till <a href="mailto:patrik@tastenote.se">patrik@tastenote.se</a></font><br />
	<br />
	<span style="font-family: arial, 'helvetica neue', helvetica, sans-serif; color: rgb(105, 105, 105); font-size: 14px; text-align: center;">Efter provningen kommer vi att ha samples fr&aring;n framf&ouml;r allt Islay som man kan k&ouml;pa med sig hem f&ouml;r att testa vidare. Ett sample &auml;r p&aring; 3 cl och kostar mellan 20-60 kr/sample.</span></p>
<p>
	<span style="font-family: Arial; font-size: 14px; text-align: center; color: rgb(105, 105, 105);"><span style="font-family: arial, 'helvetica neue', helvetica, sans-serif;">Varmt v&auml;lkomna<br />
	<br />
	Patrik o Roland</span></span></p>
LOCATION:Varberg
END:VEVENT
END:VCALENDAR