BEGIN:VCALENDAR
VERSION:2.0
BEGIN:VEVENT
URL:http://www.tastenote.se/natverk/events/viewevent/8-falkenberg-oel-whiskymaessa 
DTSTART:20140821T150000
DTEND:20140822T220000
SUMMARY:Falkenberg Öl & Whiskymässa
DESCRIPTION:<p>
	2:a upplagan av Falkenbergs &Ouml;l & Whiskym&auml;ssa i Falkhallen.&nbsp;</p>
LOCATION:Garvareliden 1, 311 35 Falkenberg
END:VEVENT
END:VCALENDAR