BEGIN:VCALENDAR
VERSION:2.0
BEGIN:VEVENT
URL:http://www.tastenote.se/natverk/events/viewevent/9-tunsberg-whiskyfestival-2014 
DTSTART:20140913T130000
DTEND:20140913T210000
SUMMARY:Tunsberg Whiskyfestival 2014
DESCRIPTION:<p>
	Les mer p&aring; Tunsberg Whiskyfestival sin <a href="http://www.tunsbergwhiskyfestival.no/">hjemmeside</a>.</p>
LOCATION:Quality Hotel Klubben, Tønsberg, Norge
END:VEVENT
END:VCALENDAR